BEGIN:VCALENDAR
VERSION:2.0
PRODID:-//Squarespace Inc/Squarespace 6//v6//EN
BEGIN:VEVENT
UID:5ab18c542b6a288b96b52013@squarespace.com
DTSTAMP:20180320T225636Z
DTSTART:20180401T140000Z
DTEND:20180402T153000Z
SUMMARY:'Unexpected Joy' Easter Sunday Service
END:VEVENT
END:VCALENDAR
