BEGIN:VCALENDAR
VERSION:2.0
PRODID:-//Squarespace Inc/Squarespace 6//v6//EN
BEGIN:VEVENT
UID:5ab188ed8a922d09164f81c5@squarespace.com
DTSTAMP:20180320T225537Z
DTSTART:20180330T140000Z
DTEND:20180330T150000Z
SUMMARY:'Amazing Love' Easter Friday Service
END:VEVENT
END:VCALENDAR
