BEGIN:VCALENDAR
VERSION:2.0
PRODID:-//Squarespace Inc/Squarespace 6//v6//EN
BEGIN:VEVENT
UID:5ab1861c562fa74b92e05873@squarespace.com
DTSTAMP:20180419T230334Z
DTSTART:20180325T230000Z
DTEND:20180430T003000Z
SUMMARY:'Know what you believe' Apologetics Series
END:VEVENT
END:VCALENDAR
