BEGIN:VCALENDAR
VERSION:2.0
PRODID:-//Squarespace Inc/Squarespace 6//v6//EN
BEGIN:VEVENT
UID:597e6698f7e0ab110db66714@squarespace.com
DTSTAMP:20170731T010937Z
DTSTART:20170902T123000Z
DTEND:20170902T143000Z
SUMMARY:Saturday Men's Breakfast
END:VEVENT
END:VCALENDAR
