BEGIN:VCALENDAR
VERSION:2.0
PRODID:-//Squarespace Inc/Squarespace 6//v6//EN
BEGIN:VEVENT
UID:59b85d32be42d605193b1145@squarespace.com
DTSTAMP:20180110T223717Z
DTSTART:20180204T150000Z
DTEND:20180204T163000Z
SUMMARY:Vision Sunday
END:VEVENT
END:VCALENDAR
