BEGIN:VCALENDAR
VERSION:2.0
PRODID:-//Squarespace Inc/Squarespace 6//v6//EN
BEGIN:VEVENT
UID:5992422a8419c23697ef4810@squarespace.com
DTSTAMP:20170815T004032Z
DTSTART:20170818T230000Z
DTEND:20170819T013000Z
SUMMARY:PACE Youth Group: Night Hike
END:VEVENT
END:VCALENDAR
