BEGIN:VCALENDAR
VERSION:2.0
PRODID:-//Squarespace Inc/Squarespace 6//v6//EN
BEGIN:VEVENT
UID:597e87b3914e6bed5fda8d60@squarespace.com
DTSTAMP:20170731T013046Z
DTSTART:20170903T140000Z
DTEND:20170904T153000Z
SUMMARY:Father's Day Service 'On the road again'
END:VEVENT
END:VCALENDAR
