BEGIN:VCALENDAR
VERSION:2.0
PRODID:-//Squarespace Inc/Squarespace 6//v6//EN
BEGIN:VEVENT
UID:594c54cee3df284c299ad23f@squarespace.com
DTSTAMP:20170622T234948Z
DTSTART:20170729T223000Z
DTEND:20170730T013000Z
SUMMARY:OCC Variety Night - Quiz\, Auction & Talent show
END:VEVENT
END:VCALENDAR
