BEGIN:VCALENDAR
VERSION:2.0
PRODID:-//Squarespace Inc/Squarespace 6//v6//EN
BEGIN:VEVENT
UID:58d45022cd0f68ac6feb712c@squarespace.com
DTSTAMP:20180121T234946Z
DTSTART:20180213T003000Z
DTEND:20180213T020000Z
SUMMARY:James 5 Prayer Night
END:VEVENT
END:VCALENDAR
