BEGIN:VCALENDAR
VERSION:2.0
PRODID:-//Squarespace Inc/Squarespace 6//v6//EN
BEGIN:VEVENT
UID:589a61166a4963ad40f1131a@squarespace.com
DTSTAMP:20180121T235021Z
DTSTART:20180218T170000Z
DTEND:20180218T183000Z
SUMMARY:Get to Know Us
END:VEVENT
END:VCALENDAR
