BEGIN:VCALENDAR
VERSION:2.0
PRODID:-//Squarespace Inc/Squarespace 6//v6//EN
BEGIN:VEVENT
UID:58a0d76ed2b857eb65f8f84d@squarespace.com
DTSTAMP:20171126T231458Z
DTSTART:20171211T150000Z
DTEND:20171211T163000Z
SUMMARY:Café Connect
END:VEVENT
END:VCALENDAR
