BEGIN:VCALENDAR
VERSION:2.0
PRODID:-//Squarespace Inc/Squarespace 6//v6//EN
BEGIN:VEVENT
UID:5a1b60a2652dea2e1a713630@squarespace.com
DTSTAMP:20171127T015621Z
DTSTART:20171225T000000Z
DTEND:20171225T013000Z
SUMMARY:Unwrapping the Greatest Gift - Christmas Eve Service
END:VEVENT
END:VCALENDAR
