BEGIN:VCALENDAR
VERSION:2.0
PRODID:-//Squarespace Inc/Squarespace 6//v6//EN
BEGIN:VEVENT
UID:59ff74130d929758ea191f6b@squarespace.com
DTSTAMP:20171105T204711Z
DTSTART:20171202T180000Z
DTEND:20171202T200000Z
SUMMARY:Official Opening Weekend - 2nd & 3rd December
END:VEVENT
END:VCALENDAR
