BEGIN:VCALENDAR
VERSION:2.0
PRODID:-//Squarespace Inc/Squarespace 6//v6//EN
BEGIN:VEVENT
UID:5a1b5bbd652dea2e1a70630e@squarespace.com
DTSTAMP:20171127T003336Z
DTSTART:20171217T150000Z
DTEND:20171217T163000Z
SUMMARY:Kumeu Vintage Brass Band Christmas Service
END:VEVENT
END:VCALENDAR
