BEGIN:VCALENDAR
VERSION:2.0
PRODID:-//Squarespace Inc/Squarespace 6//v6//EN
BEGIN:VEVENT
UID:5a270a779140b74e79bdd23a@squarespace.com
DTSTAMP:20171205T211207Z
DTSTART:20171210T150000Z
DTEND:20171210T163000Z
SUMMARY:Kids Journey's Breakup
END:VEVENT
END:VCALENDAR
