BEGIN:VCALENDAR
VERSION:2.0
PRODID:-//Squarespace Inc/Squarespace 6//v6//EN
BEGIN:VEVENT
UID:5876c1f5cd0f68c65876f9df@squarespace.com
DTSTAMP:20180110T223758Z
DTSTART:20180107T163000Z
DTEND:20180121T193000Z
SUMMARY:Summer Sunday Picnics
END:VEVENT
END:VCALENDAR
