BEGIN:VCALENDAR
VERSION:2.0
PRODID:-//Squarespace Inc/Squarespace 6//v6//EN
BEGIN:VEVENT
UID:5876c5bcd482e90f853045d8@squarespace.com
DTSTAMP:20170111T235618Z
DTSTART:20170101T150000Z
DTEND:20170205T163000Z
SUMMARY:Parables of Jesus Series - Stories to Live by
END:VEVENT
END:VCALENDAR
