BEGIN:VCALENDAR
VERSION:2.0
PRODID:-//Squarespace Inc/Squarespace 6//v6//EN
BEGIN:VEVENT
UID:58325250725e2597a567db79@squarespace.com
DTSTAMP:20161121T015054Z
DTSTART:20161225T000000Z
DTEND:20161225T010000Z
SUMMARY:Christmas Eve Service "The Wonder of Christmas"
END:VEVENT
END:VCALENDAR
