BEGIN:VCALENDAR
VERSION:2.0
PRODID:-//Squarespace Inc/Squarespace 6//v6//EN
BEGIN:VEVENT
UID:584483a5d482e9a1a5b35fc9@squarespace.com
DTSTAMP:20161204T211706Z
DTSTART:20161218T150000Z
DTEND:20161218T163000Z
SUMMARY:Kumeu Vintage Brass Band "A Brass Christmas"
END:VEVENT
END:VCALENDAR
