BEGIN:VCALENDAR
VERSION:2.0
PRODID:-//Squarespace Inc/Squarespace 6//v6//EN
BEGIN:VEVENT
UID:57fd676abebafb4dcf19b83e@squarespace.com
DTSTAMP:20161113T225133Z
DTSTART:20161212T150000Z
DTEND:20161212T170000Z
SUMMARY:Cafe Connect
END:VEVENT
END:VCALENDAR
